BEGIN:VCALENDAR
VERSION:2.0
CALSCALE:GREGORIAN
PRODID:-//TSV SCHOTT Mainz//Termine 2026//DE

BEGIN:VTIMEZONE
TZID:Europe/Berlin
BEGIN:DAYLIGHT
TZOFFSETFROM:+0100
TZOFFSETTO:+0200
TZNAME:CEST
DTSTART:19700329T020000
RRULE:FREQ=YEARLY;BYMONTH=3;BYDAY=-1SU
END:DAYLIGHT
BEGIN:STANDARD
TZOFFSETFROM:+0200
TZOFFSETTO:+0100
TZNAME:CET
DTSTART:19701025T030000
RRULE:FREQ=YEARLY;BYMONTH=10;BYDAY=-1SU
END:STANDARD
END:VTIMEZONE

BEGIN:VEVENT
UID:20260402-schnuppertag@schott-mainz
DTSTAMP:20260326T000000Z
DTSTART;TZID=Europe/Berlin:20260402T150000
DTEND;TZID=Europe/Berlin:20260402T180000
SUMMARY:Schnuppertag (Jugend 5–9-Jährige) – TSV SCHOTT Mainz Tennis & Padel
LOCATION:TSV SCHOTT Mainz e.V.
END:VEVENT

BEGIN:VEVENT
UID:20260404-platzeröffnung@schott-mainz
DTSTAMP:20260326T000000Z
DTSTART;VALUE=DATE:20260405
SUMMARY:Platzeröffnung am Ostersamstag – TSV SCHOTT Mainz Tennis & Padel
LOCATION:TSV SCHOTT Mainz e.V.
END:VEVENT

BEGIN:VEVENT
UID:20260417-earlybird@schott-mainz
DTSTAMP:20260326T000000Z
DTSTART;VALUE=DATE:20260417
DTEND;VALUE=DATE:20260420
SUMMARY:Early Bird Cup – DTB Jugendranglistenturnier J5 – TSV SCHOTT Mainz Tennis & Padel
LOCATION:TSV SCHOTT Mainz e.V.
END:VEVENT

BEGIN:VEVENT
UID:20260420-sommertraining@schott-mainz
DTSTAMP:20260326T000000Z
DTSTART;VALUE=DATE:20260420
SUMMARY:Beginn Sommertraining – TSV SCHOTT Mainz Tennis & Padel
LOCATION:TSV SCHOTT Mainz e.V.
END:VEVENT

BEGIN:VEVENT
UID:20260627-herren1@schott-mainz
DTSTAMP:20260326T000000Z
DTSTART;TZID=Europe/Berlin:20260627T100000
DTEND;TZID=Europe/Berlin:20260627T160000
SUMMARY:1. Herren Oberliga Heimspiel vs. TC Mutterstadt – TSV SCHOTT Mainz Tennis & Padel
LOCATION:TSV SCHOTT Mainz e.V.
END:VEVENT

BEGIN:VEVENT
UID:20260628-herren2@schott-mainz
DTSTAMP:20260326T000000Z
DTSTART;TZID=Europe/Berlin:20260628T100000
DTEND;TZID=Europe/Berlin:20260628T160000
SUMMARY:2. Herren Oberliga Heimspiel vs. BASF TC Ludwigshafen 2 – TSV SCHOTT Mainz Tennis & Padel
LOCATION:TSV SCHOTT Mainz e.V.
END:VEVENT

BEGIN:VEVENT
UID:20260629-tenniscamp1@schott-mainz
DTSTAMP:20260326T000000Z
DTSTART;VALUE=DATE:20260629
DTEND;VALUE=DATE:20260704
SUMMARY:Tenniscamp 1 – TSV SCHOTT Mainz Tennis & Padel
LOCATION:TSV SCHOTT Mainz e.V.
END:VEVENT

BEGIN:VEVENT
UID:20260711-herren3@schott-mainz
DTSTAMP:20260326T000000Z
DTSTART;TZID=Europe/Berlin:20260711T100000
DTEND;TZID=Europe/Berlin:20260711T160000
SUMMARY:3. Herren Oberliga Heimspiel vs. TC Blau-Weiß Homburg – TSV SCHOTT Mainz Tennis & Padel
LOCATION:TSV SCHOTT Mainz e.V.
END:VEVENT

BEGIN:VEVENT
UID:20260727-tenniscamp2@schott-mainz
DTSTAMP:20260326T000000Z
DTSTART;VALUE=DATE:20260727
DTEND;VALUE=DATE:20260801
SUMMARY:Tenniscamp 2 – TSV SCHOTT Mainz Tennis & Padel
LOCATION:TSV SCHOTT Mainz e.V.
END:VEVENT

BEGIN:VEVENT
UID:20260807-schottcup@schott-mainz
DTSTAMP:20260326T000000Z
DTSTART;VALUE=DATE:20260807
DTEND;VALUE=DATE:20260810
SUMMARY:SCHOTT Cup – DTB Jugendranglistenturnier J4 – TSV SCHOTT Mainz Tennis & Padel
LOCATION:TSV SCHOTT Mainz e.V.
END:VEVENT

BEGIN:VEVENT
UID:20260822-sommerfest@schott-mainz
DTSTAMP:20260326T000000Z
DTSTART;TZID=Europe/Berlin:20260822T140000
DTEND;TZID=Europe/Berlin:20260822T235900
SUMMARY:Sommerfest – TSV SCHOTT Mainz Tennis & Padel
LOCATION:TSV SCHOTT Mainz e.V.
END:VEVENT

BEGIN:VEVENT
UID:20260911-aviathelencup-u21@schott-mainz
DTSTAMP:20260326T000000Z
DTSTART;VALUE=DATE:20260911
DTEND;VALUE=DATE:20260914
SUMMARY:Avia Thelen Cup – DTB U21-Ranglistenturnier N6 – TSV SCHOTT Mainz Tennis & Padel
LOCATION:TSV SCHOTT Mainz e.V.
END:VEVENT

BEGIN:VEVENT
UID:20260911-aviathelencup-u18@schott-mainz
DTSTAMP:20260326T000000Z
DTSTART;VALUE=DATE:20260911
DTEND;VALUE=DATE:20260914
SUMMARY:Avia Thelen Cup – DTB U18-Ranglistenturnier J4 – TSV SCHOTT Mainz Tennis & Padel
LOCATION:TSV SCHOTT Mainz e.V.
END:VEVENT

END:VCALENDAR